BEGIN:VCALENDAR
VERSION:2.0
PRODID:-//78.153.218.40//NONSGML kigkonsult.se iCalcreator 2.20//
CALSCALE:GREGORIAN
METHOD:PUBLISH
X-WR-CALNAME:Academy of Shotokan Karate Ireland
X-WR-CALDESC:
X-FROM-URL:http://aski.ie
X-WR-TIMEZONE:Europe/Dublin
BEGIN:VTIMEZONE
TZID:Europe/Dublin
X-LIC-LOCATION:Europe/Dublin
BEGIN:STANDARD
DTSTART:20171029T020000
TZOFFSETFROM:+0100
TZOFFSETTO:+0000
TZNAME:GMT
END:STANDARD
BEGIN:DAYLIGHT
DTSTART:20180325T010000
TZOFFSETFROM:+0000
TZOFFSETTO:+0100
TZNAME:IST
END:DAYLIGHT
END:VTIMEZONE
BEGIN:VEVENT
UID:4008f97d-f1cd-464e-8c62-333d183a15d7
DTSTAMP:20171106T153423Z
CATEGORIES:
CONTACT:
DESCRIPTION:
DTSTART;VALUE=DATE:20141129
DTEND;VALUE=DATE:20141130
SEQUENCE:0
SUMMARY:Sports First Aid – Limerick Sports
URL:http://aski.ie/event/sports-first-aid-limerick-sports-3/
X-TAGS;LANGUAGE=en-GB:events
END:VEVENT
END:VCALENDAR
