BEGIN:VCALENDAR
VERSION:2.0
PRODID:-//78.153.218.40//NONSGML kigkonsult.se iCalcreator 2.20//
CALSCALE:GREGORIAN
METHOD:PUBLISH
X-WR-CALNAME:Academy of Shotokan Karate Ireland
X-WR-CALDESC:
X-FROM-URL:http://aski.ie
X-WR-TIMEZONE:Europe/Dublin
BEGIN:VTIMEZONE
TZID:Europe/Dublin
X-LIC-LOCATION:Europe/Dublin
BEGIN:STANDARD
DTSTART:20171029T020000
TZOFFSETFROM:+0100
TZOFFSETTO:+0000
TZNAME:GMT
END:STANDARD
BEGIN:DAYLIGHT
DTSTART:20180325T010000
TZOFFSETFROM:+0000
TZOFFSETTO:+0100
TZNAME:IST
END:DAYLIGHT
END:VTIMEZONE
BEGIN:VEVENT
UID:99kvgglctbn55i2lb4s0uf7uts@google.com
DTSTAMP:20171106T153802Z
CATEGORIES:
CONTACT:
DESCRIPTION:Saturday – 09:30 START\nFundraiser for the U21 squad for EKF  Z
 urich\, Switzerland (February\,2015) and also WKF Indonesia (November 2015
 ).\nONAKAI clubs all should attend.\nPoster:\nhttps://scontent-b-lhr.xx.fb
 cdn.net/hphotos-xpa1/v/t1.0-9/10610558_819174081436309_1138926446274334475
 _n.jpg?oh=c642479db2b343a18aa1bf042d2d4307&oe=54AC01E6
DTSTART;VALUE=DATE:20141213
DTEND;VALUE=DATE:20141214
LOCATION:Tallaght Leisure Centre\, Fortunestown Way\, Lucan\, Co. South Dub
 lin\, Ireland
SEQUENCE:0
SUMMARY:National JUNIOR/U21 Fundraiser Competition – Tallaght
URL:http://aski.ie/event/national-junioru21-fundraiser-competition-tallaght
 -2/
X-ALT-DESC;FMTTYPE=text/html:<!DOCTYPE HTML PUBLIC '-//W3C//DTD HTML 3.2//E
 N'>\\n<HTML>\\n<HEAD>\\n<TITLE></TITLE>\\n</HEAD>\\n<BODY><p>Saturday – 09
 :30 START</p>\n<p>Fundraiser for the U21 squad for EKF  Zurich\, Switzerla
 nd (February\,2015) and also WKF Indonesia (November 2015).</p>\n<p>ONAKAI
  clubs all should attend.</p>\n<p>Poster:<br />\nhttps://scontent-b-lhr.xx
 .fbcdn.net/hphotos-xpa1/v/t1.0-9/10610558_819174081436309_1138926446274334
 475_n.jpg?oh=c642479db2b343a18aa1bf042d2d4307&oe=54AC01E6</p>\n</BODY></HT
 ML>
X-TAGS;LANGUAGE=en-GB:events
END:VEVENT
END:VCALENDAR
